BEGIN:VCALENDAR
VERSION:2.0
CALSCALE:GREGORIAN
PRODID:-//Diputació de Barcelona//DibaCMS//EN
BEGIN:VEVENT
UID:4721
DTSTAMP:20260421T103345
DTSTART:20210410T180000
DTEND:20210410T200000
SUMMARY:EXPOSICIÓ "ALÇANT EL VOL" 
LOCATION:C/ Serra 37 08231 Ullastrell
METHOD:PUBLISH
X-WR-CALNAME:ullastrell@ullastrell.cat
X-WR-TIMEZONE:Europe/Madrid
DESCRIPTION:
URI:https://www.ullastrell.cat/actualitat/agenda/exposicio-alcant-el-vol-.html
CLASS:PUBLIC
END:VEVENT
END:VCALENDAR
