BEGIN:VCALENDAR
VERSION:2.0
CALSCALE:GREGORIAN
PRODID:-//Diputació de Barcelona//DibaCMS//EN
BEGIN:VEVENT
UID:4725
DTSTAMP:20260421T091303
DTSTART:20210422T170000
DTEND:20210422T180000
SUMMARY:Presentació i narració llibre "LA PAPALLONA LILA", AMB FUNDACIÓ MSD.
LOCATION:C/ Serra 37 08231 Ullastrell
METHOD:PUBLISH
X-WR-CALNAME:ullastrell@ullastrell.cat
X-WR-TIMEZONE:Europe/Madrid
DESCRIPTION:Sessió Familiar

URI:https://www.ullastrell.cat/actualitat/agenda/presentacio-i-narracio-llibre-la-papallona-lila-amb-fundacio-msd.html
CLASS:PUBLIC
END:VEVENT
END:VCALENDAR
