BEGIN:VCALENDAR
VERSION:2.0
CALSCALE:GREGORIAN
PRODID:-//Diputació de Barcelona//DibaCMS//EN
BEGIN:VEVENT
UID:4728
DTSTAMP:20260421T105627
DTSTART:20210424T193000
DTEND:20210424T213000
SUMMARY:PROJECCIÓ DOCUMENTAL "ULLASTRELL EN TEMPS DE GUERRA CIVIL"
LOCATION:C/ Josep Fornell, s/n 08231 Ullastrell
METHOD:PUBLISH
X-WR-CALNAME:ullastrell@ullastrell.cat
X-WR-TIMEZONE:Europe/Madrid
DESCRIPTION:Un recorregut pels esdeveniments i vivències al voltant de la guerra civil espanyola(1936-39) narrat pels nostres avis i àvies.

URI:https://www.ullastrell.cat/actualitat/agenda/projeccio-documental-ullastrell-en-temps-de-guerra-civil.html
CLASS:PUBLIC
END:VEVENT
END:VCALENDAR
