BEGIN:VCALENDAR
VERSION:2.0
CALSCALE:GREGORIAN
PRODID:-//Diputació de Barcelona//DibaCMS//EN
BEGIN:VEVENT
UID:4731
DTSTAMP:20260421T073806
DTSTART:20210430T193000
DTEND:20210430T213000
SUMMARY:Cinema al Casal!
LOCATION:C/ Josep Fornell, s/n 08231 Ullastrell
METHOD:PUBLISH
X-WR-CALNAME:ullastrell@ullastrell.cat
X-WR-TIMEZONE:Europe/Madrid
DESCRIPTION:TOMÀQUETS VERDS FREGITS

URI:https://www.ullastrell.cat/actualitat/agenda/4731-cinema-al-casal.html
CLASS:PUBLIC
END:VEVENT
END:VCALENDAR
