BEGIN:VCALENDAR
VERSION:2.0
CALSCALE:GREGORIAN
PRODID:-//Diputació de Barcelona//DibaCMS//EN
BEGIN:VEVENT
UID:4735
DTSTAMP:20260421T085341
DTSTART:20210506T170000
DTEND:20210506T180000
SUMMARY:Conte va, conte ve
LOCATION:C/ Josep Fornell, s/n 08231 Ullastrell
METHOD:PUBLISH
X-WR-CALNAME:ullastrell@ullastrell.cat
X-WR-TIMEZONE:Europe/Madrid
DESCRIPTION:EL COHET INVISIBLE  Contes per volar, amb Sherezade Bardají

URI:https://www.ullastrell.cat/actualitat/agenda/4735-conte-va-conte-ve.html
CLASS:PUBLIC
END:VEVENT
END:VCALENDAR
