BEGIN:VCALENDAR
VERSION:2.0
CALSCALE:GREGORIAN
PRODID:-//Diputació de Barcelona//DibaCMS//EN
BEGIN:VEVENT
UID:4736
DTSTAMP:20260421T085514
DTSTART:20210612T100000
DTEND:20210612T140000
SUMMARY:CURSA Patinets i SKATEPARK
LOCATION:Plaça 4 vents i Plaça Serralavella 
METHOD:PUBLISH
X-WR-CALNAME:ullastrell@ullastrell.cat
X-WR-TIMEZONE:Europe/Madrid
DESCRIPTION:Aquest dissabte, patina per una causa solidària!

URI:https://www.ullastrell.cat/actualitat/agenda/cursa-patinets-i-skatepark.html
CLASS:PUBLIC
END:VEVENT
END:VCALENDAR
