BEGIN:VCALENDAR
VERSION:2.0
CALSCALE:GREGORIAN
PRODID:-//Diputació de Barcelona//DibaCMS//EN
BEGIN:VEVENT
UID:4737
DTSTAMP:20260421T090918
DTSTART:20210511T170000
DTEND:20210511T200000
SUMMARY:TALLER REUTILITZACIÓ ROBA 
LOCATION:C/ Serra 37 08231 Ullastrell
METHOD:PUBLISH
X-WR-CALNAME:ullastrell@ullastrell.cat
X-WR-TIMEZONE:Europe/Madrid
DESCRIPTION:BIOTABAGS 

URI:https://www.ullastrell.cat/actualitat/agenda/4737-taller-reutilitzacio-roba-.html
CLASS:PUBLIC
END:VEVENT
END:VCALENDAR
