BEGIN:VCALENDAR
VERSION:2.0
CALSCALE:GREGORIAN
PRODID:-//Diputació de Barcelona//DibaCMS//EN
BEGIN:VEVENT
UID:4741
DTSTAMP:20260421T063833
DTSTART:20210523T110000
DTEND:20210523T130000
SUMMARY:ACTIVITAT FAMILIAR A LA NATURA: GUARDIANES DEL BOSC, AMB EA IMPLICITA
LOCATION:
METHOD:PUBLISH
X-WR-CALNAME:ullastrell@ullastrell.cat
X-WR-TIMEZONE:Europe/Madrid
DESCRIPTION:Punt de Trobada: Plaça Lluís Companys

URI:https://www.ullastrell.cat/actualitat/agenda/activitat-familiar-a-la-natura-guardianes-del-bosc-amb-ea-implicita.html
CLASS:PUBLIC
END:VEVENT
END:VCALENDAR
