BEGIN:VCALENDAR
VERSION:2.0
CALSCALE:GREGORIAN
PRODID:-//Diputació de Barcelona//DibaCMS//EN
BEGIN:VEVENT
UID:4744
DTSTAMP:20260421T060233
DTSTART:20210605T120000
DTEND:20210605T140000
SUMMARY:Cuina pedalant
LOCATION:C/ Serra, 17 08231 Ullastrell
METHOD:PUBLISH
X-WR-CALNAME:ullastrell@ullastrell.cat
X-WR-TIMEZONE:Europe/Madrid
DESCRIPTION:Aquest dissabte de 12 a 14h passa per davant l'Ajuntament, i PEDALA AMB ENERGIA!

URI:https://www.ullastrell.cat/actualitat/agenda/cuina-pedalant.html
CLASS:PUBLIC
END:VEVENT
END:VCALENDAR
