BEGIN:VCALENDAR
VERSION:2.0
CALSCALE:GREGORIAN
PRODID:-//Diputació de Barcelona//DibaCMS//EN
BEGIN:VEVENT
UID:4748
DTSTAMP:20260421T090807
DTSTART:20210414T200000
DTEND:20210414T213000
SUMMARY:REUNIÓ DE BARRI - CAL JEP
LOCATION:
METHOD:PUBLISH
X-WR-CALNAME:ullastrell@ullastrell.cat
X-WR-TIMEZONE:Europe/Madrid
DESCRIPTION:
URI:https://www.ullastrell.cat/actualitat/agenda/4748-reunio-de-barri-cal-jep.html
CLASS:PUBLIC
END:VEVENT
END:VCALENDAR
