BEGIN:VCALENDAR
VERSION:2.0
CALSCALE:GREGORIAN
PRODID:-//Diputació de Barcelona//DibaCMS//EN
BEGIN:VEVENT
UID:4753
DTSTAMP:20260421T072420
DTSTART:20210703T173000
DTEND:20210703T200000
SUMMARY:Torneig de Videojocs
LOCATION:
METHOD:PUBLISH
X-WR-CALNAME:ullastrell@ullastrell.cat
X-WR-TIMEZONE:Europe/Madrid
DESCRIPTION:Amb Malparlats

URI:https://www.ullastrell.cat/actualitat/agenda/torneig-de-videojocs.html
CLASS:PUBLIC
END:VEVENT
END:VCALENDAR
