BEGIN:VCALENDAR
VERSION:2.0
CALSCALE:GREGORIAN
PRODID:-//Diputació de Barcelona//DibaCMS//EN
BEGIN:VEVENT
UID:4754
DTSTAMP:20260421T105719
DTSTART:20210413T153000
DTEND:20210413T180000
SUMMARY:Bibliobús La Mola
LOCATION:C/ Josep Fornell, s/n 08231 Ullastrell
METHOD:PUBLISH
X-WR-CALNAME:ullastrell@ullastrell.cat
X-WR-TIMEZONE:Europe/Madrid
DESCRIPTION:
URI:https://www.ullastrell.cat/actualitat/agenda/4754-bibliobus-la-mola.html
CLASS:PUBLIC
END:VEVENT
END:VCALENDAR
