BEGIN:VCALENDAR
VERSION:2.0
CALSCALE:GREGORIAN
PRODID:-//Diputació de Barcelona//DibaCMS//EN
BEGIN:VEVENT
UID:4782
DTSTAMP:20260421T050137
DTSTART:20210523T110000
DTEND:20210523T130000
SUMMARY:Exposició itinerant "Conviure en un món de diferències"
LOCATION:C/ Serra 37 08231 Ullastrell
METHOD:PUBLISH
X-WR-CALNAME:ullastrell@ullastrell.cat
X-WR-TIMEZONE:Europe/Madrid
DESCRIPTION:
URI:https://www.ullastrell.cat/actualitat/agenda/4782-exposicio-itinerant-conviure-en-un-mon-de-diferencies.html
CLASS:PUBLIC
END:VEVENT
END:VCALENDAR
