BEGIN:VCALENDAR
VERSION:2.0
CALSCALE:GREGORIAN
PRODID:-//Diputació de Barcelona//DibaCMS//EN
BEGIN:VEVENT
UID:4791
DTSTAMP:20260421T062421
DTSTART:20210525T203000
DTEND:20210525T213000
SUMMARY:Ple extraordinari urgent 25/05/2021
LOCATION:
METHOD:PUBLISH
X-WR-CALNAME:ullastrell@ullastrell.cat
X-WR-TIMEZONE:Europe/Madrid
DESCRIPTION:Tipus de convocatòria: Extraordinària urgent
Data i hora: 25 / de maig / 2021 a les 20:30
Lloc: Sala de Plens - virtual

URI:https://www.ullastrell.cat/actualitat/agenda/ple-extraordinari-urgent-25052021.html
CLASS:PUBLIC
END:VEVENT
END:VCALENDAR
