BEGIN:VCALENDAR
VERSION:2.0
CALSCALE:GREGORIAN
PRODID:-//Diputació de Barcelona//DibaCMS//EN
BEGIN:VEVENT
UID:4793
DTSTAMP:20260421T103540
DTSTART:20210609T200000
DTEND:20210609T213000
SUMMARY:REUNIÓ DE BARRI - TURÓ DE CAN PALET
LOCATION:
METHOD:PUBLISH
X-WR-CALNAME:ullastrell@ullastrell.cat
X-WR-TIMEZONE:Europe/Madrid
DESCRIPTION:Tornen les reunions de barri en el format que compleix totes les mesures de seguretat.  És per això que tindran lloc al Teatre del Casal Cultural i amb cita prèvia.

URI:https://www.ullastrell.cat/actualitat/agenda/4793-reunio-de-barri-turo-de-can-palet.html
CLASS:PUBLIC
END:VEVENT
END:VCALENDAR
