BEGIN:VCALENDAR
VERSION:2.0
CALSCALE:GREGORIAN
PRODID:-//Diputació de Barcelona//DibaCMS//EN
BEGIN:VEVENT
UID:4794
DTSTAMP:20260421T073746
DTSTART:20210526T200000
DTEND:20210526T213000
SUMMARY:REUNIÓ DE BARRI - CA N'AMAT
LOCATION:
METHOD:PUBLISH
X-WR-CALNAME:ullastrell@ullastrell.cat
X-WR-TIMEZONE:Europe/Madrid
DESCRIPTION:Tornen les reunions de barri en el format que compleix totes les mesures de seguretat.  És per això que tindran lloc al Teatre del Casal Cultural i amb cita prèvia.

URI:https://www.ullastrell.cat/actualitat/agenda/reunio-de-barri-ca-namat.html
CLASS:PUBLIC
END:VEVENT
END:VCALENDAR
