BEGIN:VCALENDAR
VERSION:2.0
CALSCALE:GREGORIAN
PRODID:-//Diputació de Barcelona//DibaCMS//EN
BEGIN:VEVENT
UID:4818
DTSTAMP:20260421T071737
DTSTART:20210702T220000
DTEND:20210702T235900
SUMMARY:Estiu Jove 2021 - CURTS DEL MECAL
LOCATION:Plaça de les Escoles Velles 
METHOD:PUBLISH
X-WR-CALNAME:ullastrell@ullastrell.cat
X-WR-TIMEZONE:Europe/Madrid
DESCRIPTION:Curts de terror, psicològics i animació t'esperen!

Si vols porta't entrepà i beguda per sopar a la fresca amb els amics.

URI:https://www.ullastrell.cat/actualitat/agenda/estiu-jove-2021-curts-del-mecal.html
CLASS:PUBLIC
END:VEVENT
END:VCALENDAR
