BEGIN:VCALENDAR
VERSION:2.0
CALSCALE:GREGORIAN
PRODID:-//Diputació de Barcelona//DibaCMS//EN
BEGIN:VEVENT
UID:4821
DTSTAMP:20260421T060402
DTSTART:20210723T220000
DTEND:20210723T235900
SUMMARY:AJORNAT - Estiu Jove 2021 - CONCERT JOVE
LOCATION:Pati de les Moreres 
METHOD:PUBLISH
X-WR-CALNAME:ullastrell@ullastrell.cat
X-WR-TIMEZONE:Europe/Madrid
DESCRIPTION:Panellet i F.A.N.T.A.

URI:https://www.ullastrell.cat/actualitat/agenda/ajornat-estiu-jove-2021-concert-jove.html
CLASS:PUBLIC
END:VEVENT
END:VCALENDAR
