BEGIN:VCALENDAR
VERSION:2.0
CALSCALE:GREGORIAN
PRODID:-//Diputació de Barcelona//DibaCMS//EN
BEGIN:VEVENT
UID:4823
DTSTAMP:20260421T062539
DTSTART:20210721T180000
DTEND:20210721T200000
SUMMARY:ANULAT! -Estiu Jove 2021 - VIDEOJOCS-
LOCATION:Plaça de les Escoles Velles 
METHOD:PUBLISH
X-WR-CALNAME:ullastrell@ullastrell.cat
X-WR-TIMEZONE:Europe/Madrid
DESCRIPTION:
URI:https://www.ullastrell.cat/actualitat/agenda/anulat-estiu-jove-2021-videojocs-.html
CLASS:PUBLIC
END:VEVENT
END:VCALENDAR
