BEGIN:VCALENDAR
VERSION:2.0
CALSCALE:GREGORIAN
PRODID:-//Diputació de Barcelona//DibaCMS//EN
BEGIN:VEVENT
UID:4824
DTSTAMP:20260421T084732
DTSTART:20210731T220000
DTEND:20210801T010000
SUMMARY:CANCEL·LAT Estiu Jove 2021 - BANY NOCTURN
LOCATION:C/ Josep Fornell, s/n 08231 Ullastrell
METHOD:PUBLISH
X-WR-CALNAME:ullastrell@ullastrell.cat
X-WR-TIMEZONE:Europe/Madrid
DESCRIPTION:Remulla't de nit amb l'acompanyament musical de Dj. Atuma (Adolescents.cat)

URI:https://www.ullastrell.cat/actualitat/agenda/cancellat-estiu-jove-2021-bany-nocturn.html
CLASS:PUBLIC
END:VEVENT
END:VCALENDAR
