BEGIN:VCALENDAR
VERSION:2.0
CALSCALE:GREGORIAN
PRODID:-//Diputació de Barcelona//DibaCMS//EN
BEGIN:VEVENT
UID:4825
DTSTAMP:20260421T071706
DTSTART:20210707T180000
DTEND:20210707T200000
SUMMARY:Estiu Jove 2021 - CUINA SENSE PARES
LOCATION:Sala Polivalent 
METHOD:PUBLISH
X-WR-CALNAME:ullastrell@ullastrell.cat
X-WR-TIMEZONE:Europe/Madrid
DESCRIPTION:Aprèn a cuinar-te un primer i segon plat originals amb postre per quan et quedis sol/a a casa.

URI:https://www.ullastrell.cat/actualitat/agenda/estiu-jove-2021-cuina-sense-pares.html
CLASS:PUBLIC
END:VEVENT
END:VCALENDAR
