BEGIN:VCALENDAR
VERSION:2.0
CALSCALE:GREGORIAN
PRODID:-//Diputació de Barcelona//DibaCMS//EN
BEGIN:VEVENT
UID:4827
DTSTAMP:20260421T090756
DTSTART:20210630T200000
DTEND:20210630T210000
SUMMARY:Ple extraordinari 30/06/2020
LOCATION:Sala de plens de l'Ajuntament d'Ullastrell 
METHOD:PUBLISH
X-WR-CALNAME:ullastrell@ullastrell.cat
X-WR-TIMEZONE:Europe/Madrid
DESCRIPTION:Tipus de convocatòria: Extraordinària
Data i hora: 30 / de juny / 2021 a les 20:00
Lloc: Sala de Plens

URI:https://www.ullastrell.cat/actualitat/agenda/ple-extraordinari-30062020.html
CLASS:PUBLIC
END:VEVENT
END:VCALENDAR
