BEGIN:VCALENDAR
VERSION:2.0
CALSCALE:GREGORIAN
PRODID:-//Diputació de Barcelona//DibaCMS//EN
BEGIN:VEVENT
UID:4829
DTSTAMP:20260421T073634
DTSTART:20210710T220000
DTEND:20210710T235900
SUMMARY:Cinema a la Fresca - SENTIMENTAL
LOCATION:Pati de Les Escoles Velles 
METHOD:PUBLISH
X-WR-CALNAME:ullastrell@ullastrell.cat
X-WR-TIMEZONE:Europe/Madrid
DESCRIPTION:
URI:https://www.ullastrell.cat/actualitat/agenda/cinema-a-la-fresca-sentimental.html
CLASS:PUBLIC
END:VEVENT
END:VCALENDAR
