BEGIN:VCALENDAR
VERSION:2.0
CALSCALE:GREGORIAN
PRODID:-//Diputació de Barcelona//DibaCMS//EN
BEGIN:VEVENT
UID:4830
DTSTAMP:20260421T062404
DTSTART:20210717T220000
DTEND:20210717T235900
SUMMARY:ANULAT! -Cinema a la Fresca - LA BODA DE ROSA-
LOCATION:Pati de Les Escoles Velles 
METHOD:PUBLISH
X-WR-CALNAME:ullastrell@ullastrell.cat
X-WR-TIMEZONE:Europe/Madrid
DESCRIPTION:
URI:https://www.ullastrell.cat/actualitat/agenda/anulat-cinema-a-la-fresca-la-boda-de-rosa-.html
CLASS:PUBLIC
END:VEVENT
END:VCALENDAR
