BEGIN:VCALENDAR
VERSION:2.0
CALSCALE:GREGORIAN
PRODID:-//Diputació de Barcelona//DibaCMS//EN
BEGIN:VEVENT
UID:4843
DTSTAMP:20260421T091119
DTSTART:20210712T200000
DTEND:20210712T213000
SUMMARY:REUNIÓ DE BARRI - CAN GRAS
LOCATION:Parc de Can Gras 
METHOD:PUBLISH
X-WR-CALNAME:ullastrell@ullastrell.cat
X-WR-TIMEZONE:Europe/Madrid
DESCRIPTION:El proper dilluns, 12 de juliol de 2021 a les 20.00 h

Al Parc de Can Gras

URI:https://www.ullastrell.cat/actualitat/agenda/4843-reunio-de-barri-can-gras.html
CLASS:PUBLIC
END:VEVENT
END:VCALENDAR
