BEGIN:VCALENDAR
VERSION:2.0
CALSCALE:GREGORIAN
PRODID:-//Diputació de Barcelona//DibaCMS//EN
BEGIN:VEVENT
UID:4855
DTSTAMP:20260421T072326
DTSTART:20210721T200000
DTEND:20210721T220000
SUMMARY:Ple ordinari 21/07/2021
LOCATION:
METHOD:PUBLISH
X-WR-CALNAME:ullastrell@ullastrell.cat
X-WR-TIMEZONE:Europe/Madrid
DESCRIPTION:Tipus de convocatòria. Ordinària
Data i hora: 21 / de juliol / 2021 a les 20:00

URI:https://www.ullastrell.cat/actualitat/agenda/ple-ordinari-21072021.html
CLASS:PUBLIC
END:VEVENT
END:VCALENDAR
