BEGIN:VCALENDAR
VERSION:2.0
CALSCALE:GREGORIAN
PRODID:-//Diputació de Barcelona//DibaCMS//EN
BEGIN:VEVENT
UID:4865
DTSTAMP:20260421T062640
DTSTART:20210815T123000
DTEND:20210815T140000
SUMMARY:Ofrena Floral i Missa Festivitat a la Verge Assumpta
LOCATION:Plaça de l'Església 
METHOD:PUBLISH
X-WR-CALNAME:ullastrell@ullastrell.cat
X-WR-TIMEZONE:Europe/Madrid
DESCRIPTION:
URI:https://www.ullastrell.cat/actualitat/agenda/ofrena-floral-i-missa-festivitat-a-la-verge-assumpta.html
CLASS:PUBLIC
END:VEVENT
END:VCALENDAR
