BEGIN:VCALENDAR
VERSION:2.0
CALSCALE:GREGORIAN
PRODID:-//Diputació de Barcelona//DibaCMS//EN
BEGIN:VEVENT
UID:4869
DTSTAMP:20260421T090741
DTSTART:20210901T153000
DTEND:20210901T180000
SUMMARY:Bibliobús La Mola
LOCATION:C/ Josep Fornell, s/n 08231 Ullastrell
METHOD:PUBLISH
X-WR-CALNAME:ullastrell@ullastrell.cat
X-WR-TIMEZONE:Europe/Madrid
DESCRIPTION:
URI:https://www.ullastrell.cat/actualitat/agenda/4869-bibliobus-la-mola.html
CLASS:PUBLIC
END:VEVENT
END:VCALENDAR
