BEGIN:VCALENDAR
VERSION:2.0
CALSCALE:GREGORIAN
PRODID:-//Diputació de Barcelona//DibaCMS//EN
BEGIN:VEVENT
UID:4885
DTSTAMP:20260421T073649
DTSTART:20210922T200000
DTEND:20210922T220000
SUMMARY:Ple Extraordinari 22/09/021
LOCATION:
METHOD:PUBLISH
X-WR-CALNAME:ullastrell@ullastrell.cat
X-WR-TIMEZONE:Europe/Madrid
DESCRIPTION:Tipus de convocatòria. Extrordinària
Data i hora: 22 / de setembre / 2021 a les 20:00

URI:https://www.ullastrell.cat/actualitat/agenda/ple-extraordinari-2209021.html
CLASS:PUBLIC
END:VEVENT
END:VCALENDAR
