BEGIN:VCALENDAR
VERSION:2.0
CALSCALE:GREGORIAN
PRODID:-//Diputació de Barcelona//DibaCMS//EN
BEGIN:VEVENT
UID:4893
DTSTAMP:20260421T013630
DTSTART:20211001T100000
DTEND:20211001T140000
SUMMARY:Finals Campionat de Petanca. Memorial Matias Amat, Eusebi Simó i Josep Costa
LOCATION:Parc de la Bassa 
METHOD:PUBLISH
X-WR-CALNAME:ullastrell@ullastrell.cat
X-WR-TIMEZONE:Europe/Madrid
DESCRIPTION:Sabrem qui són els finalistes que van jugar les prèvies el passat 14 d'agost

 

Organitza: Amics de la Petanca

URI:https://www.ullastrell.cat/actualitat/agenda/finals-campionat-de-petanca-memorial-matias-amat-eusebi-simo-i-josep-costa.html
CLASS:PUBLIC
END:VEVENT
END:VCALENDAR
