BEGIN:VCALENDAR
VERSION:2.0
CALSCALE:GREGORIAN
PRODID:-//Diputació de Barcelona//DibaCMS//EN
BEGIN:VEVENT
UID:4896
DTSTAMP:20260421T060451
DTSTART:20211001T190000
DTEND:20211001T193000
SUMMARY:Repic General de campanes
LOCATION:Plaça de l'església, 2 08231 Ullastrell
METHOD:PUBLISH
X-WR-CALNAME:ullastrell@ullastrell.cat
X-WR-TIMEZONE:Europe/Madrid
DESCRIPTION:
URI:https://www.ullastrell.cat/actualitat/agenda/4896-repic-general-de-campanes.html
CLASS:PUBLIC
END:VEVENT
END:VCALENDAR
