BEGIN:VCALENDAR
VERSION:2.0
CALSCALE:GREGORIAN
PRODID:-//Diputació de Barcelona//DibaCMS//EN
BEGIN:VEVENT
UID:4897
DTSTAMP:20260421T063528
DTSTART:20211001T193000
DTEND:20211001T200000
SUMMARY:Plantada de Gegants i Pregó de Festa Major
LOCATION:C/ Serra, 17 08231 Ullastrell
METHOD:PUBLISH
X-WR-CALNAME:ullastrell@ullastrell.cat
X-WR-TIMEZONE:Europe/Madrid
DESCRIPTION:Amb les pregoneres Josepa Carreras i Rosa Solé

URI:https://www.ullastrell.cat/actualitat/agenda/plantada-de-gegants-i-prego-de-festa-major.html
CLASS:PUBLIC
END:VEVENT
END:VCALENDAR
