BEGIN:VCALENDAR
VERSION:2.0
CALSCALE:GREGORIAN
PRODID:-//Diputació de Barcelona//DibaCMS//EN
BEGIN:VEVENT
UID:4898
DTSTAMP:20260421T031203
DTSTART:20211001T200000
DTEND:20211001T220000
SUMMARY:Batucada estàtica . Trastok'ts Street Band
LOCATION:C/ Serra, 17 08231 Ullastrell
METHOD:PUBLISH
X-WR-CALNAME:ullastrell@ullastrell.cat
X-WR-TIMEZONE:Europe/Madrid
DESCRIPTION:Vibra amb aquesta jove banda a ritme de percusió i vents, bogeria i espectacle!

URI:https://www.ullastrell.cat/actualitat/agenda/batucada-estatica--trastokts-street-band.html
CLASS:PUBLIC
END:VEVENT
END:VCALENDAR
