BEGIN:VCALENDAR
VERSION:2.0
CALSCALE:GREGORIAN
PRODID:-//Diputació de Barcelona//DibaCMS//EN
BEGIN:VEVENT
UID:4900
DTSTAMP:20260421T072540
DTSTART:20211001T223000
DTEND:20211002T000000
SUMMARY:Nit de versions: La Banda del Coche Rojo
LOCATION:C/ Serra, 17 08231 Ullastrell
METHOD:PUBLISH
X-WR-CALNAME:ullastrell@ullastrell.cat
X-WR-TIMEZONE:Europe/Madrid
DESCRIPTION:Versions festives amb la banda que farà escalfar els motors del públic ullastrenc

URI:https://www.ullastrell.cat/actualitat/agenda/nit-de-versions-la-banda-del-coche-rojo.html
CLASS:PUBLIC
END:VEVENT
END:VCALENDAR
