BEGIN:VCALENDAR
VERSION:2.0
CALSCALE:GREGORIAN
PRODID:-//Diputació de Barcelona//DibaCMS//EN
BEGIN:VEVENT
UID:4901
DTSTAMP:20260421T043105
DTSTART:20211001T223000
DTEND:20211002T010000
SUMMARY:Nit Jove · Baya Baye + DJ
LOCATION:C/ Josep Fornell, s/n 08231 Ullastrell
METHOD:PUBLISH
X-WR-CALNAME:ullastrell@ullastrell.cat
X-WR-TIMEZONE:Europe/Madrid
DESCRIPTION:Rap macarra català

 

Organitza: Malparlats

URI:https://www.ullastrell.cat/actualitat/agenda/nit-jove--baya-baye--dj.html
CLASS:PUBLIC
END:VEVENT
END:VCALENDAR
