BEGIN:VCALENDAR
VERSION:2.0
CALSCALE:GREGORIAN
PRODID:-//Diputació de Barcelona//DibaCMS//EN
BEGIN:VEVENT
UID:4904
DTSTAMP:20260421T030914
DTSTART:20211002T120000
DTEND:20211002T140000
SUMMARY:XV Campionat de SUDOKUS
LOCATION:C/ Josep Fornell, s/n 08231 Ullastrell
METHOD:PUBLISH
X-WR-CALNAME:ullastrell@ullastrell.cat
X-WR-TIMEZONE:Europe/Madrid
DESCRIPTION:Per a totes les edats

URI:https://www.ullastrell.cat/actualitat/agenda/xv-campionat-de-sudokus.html
CLASS:PUBLIC
END:VEVENT
END:VCALENDAR
