BEGIN:VCALENDAR
VERSION:2.0
CALSCALE:GREGORIAN
PRODID:-//Diputació de Barcelona//DibaCMS//EN
BEGIN:VEVENT
UID:4905
DTSTAMP:20260421T050119
DTSTART:20211002T163000
DTEND:20211002T190000
SUMMARY:Campionat de botifarra · Sistema tradicional
LOCATION:C/ Josep Fornell, s/n 08231 Ullastrell
METHOD:PUBLISH
X-WR-CALNAME:ullastrell@ullastrell.cat
X-WR-TIMEZONE:Europe/Madrid
DESCRIPTION:Amb la col·laboració de Construccions i Reformes Alfons Colilles

URI:https://www.ullastrell.cat/actualitat/agenda/campionat-de-botifarra--sistema-tradicional.html
CLASS:PUBLIC
END:VEVENT
END:VCALENDAR
