BEGIN:VCALENDAR
VERSION:2.0
CALSCALE:GREGORIAN
PRODID:-//Diputació de Barcelona//DibaCMS//EN
BEGIN:VEVENT
UID:4911
DTSTAMP:20260421T091141
DTSTART:20211003T170000
DTEND:20211003T190000
SUMMARY:XVIÈ Concurs de Parxís - Ramon Avilés
LOCATION:Plaça de Les Escoles 
METHOD:PUBLISH
X-WR-CALNAME:ullastrell@ullastrell.cat
X-WR-TIMEZONE:Europe/Madrid
DESCRIPTION:
URI:https://www.ullastrell.cat/actualitat/agenda/xvie-concurs-de-parxis-ramon-aviles.html
CLASS:PUBLIC
END:VEVENT
END:VCALENDAR
