BEGIN:VCALENDAR
VERSION:2.0
CALSCALE:GREGORIAN
PRODID:-//Diputació de Barcelona//DibaCMS//EN
BEGIN:VEVENT
UID:4913
DTSTAMP:20260421T085416
DTSTART:20211003T183000
DTEND:20211003T193000
SUMMARY:Monòleg - Quin Pollastre!
LOCATION:C/ Josep Fornell, s/n 08231 Ullastrell
METHOD:PUBLISH
X-WR-CALNAME:ullastrell@ullastrell.cat
X-WR-TIMEZONE:Europe/Madrid
DESCRIPTION:Amb Guillem Estadell

URI:https://www.ullastrell.cat/actualitat/agenda/monoleg-quin-pollastre.html
CLASS:PUBLIC
END:VEVENT
END:VCALENDAR
