BEGIN:VCALENDAR
VERSION:2.0
CALSCALE:GREGORIAN
PRODID:-//Diputació de Barcelona//DibaCMS//EN
BEGIN:VEVENT
UID:4914
DTSTAMP:20260421T085438
DTSTART:20211003T203000
DTEND:20211003T210000
SUMMARY:Puja La Nota!
LOCATION:C/ Serra, 17 08231 Ullastrell
METHOD:PUBLISH
X-WR-CALNAME:ullastrell@ullastrell.cat
X-WR-TIMEZONE:Europe/Madrid
DESCRIPTION:Organitza: Usònica

URI:https://www.ullastrell.cat/actualitat/agenda/puja-la-nota.html
CLASS:PUBLIC
END:VEVENT
END:VCALENDAR
