BEGIN:VCALENDAR
VERSION:2.0
CALSCALE:GREGORIAN
PRODID:-//Diputació de Barcelona//DibaCMS//EN
BEGIN:VEVENT
UID:4921
DTSTAMP:20260421T085448
DTSTART:20211016T180000
DTEND:20211016T200000
SUMMARY:Exposició "Menja bé, tu hi guanyes"
LOCATION:C/ Serra 37 08231 Ullastrell
METHOD:PUBLISH
X-WR-CALNAME:ullastrell@ullastrell.cat
X-WR-TIMEZONE:Europe/Madrid
DESCRIPTION:
URI:https://www.ullastrell.cat/actualitat/agenda/exposicio-menja-be-tu-hi-guanyes.html
CLASS:PUBLIC
END:VEVENT
END:VCALENDAR
