BEGIN:VCALENDAR
VERSION:2.0
CALSCALE:GREGORIAN
PRODID:-//Diputació de Barcelona//DibaCMS//EN
BEGIN:VEVENT
UID:4928
DTSTAMP:20260421T070631
DTSTART:20211024T113000
DTEND:20211024T130000
SUMMARY:Taller de Chroma
LOCATION:
METHOD:PUBLISH
X-WR-CALNAME:ullastrell@ullastrell.cat
X-WR-TIMEZONE:Europe/Madrid
DESCRIPTION: Recrea les teves escenes de pel·li preferides! Vine al Taller de Chroma diumenge 24/10 i crea el teu vídeo!

URI:https://www.ullastrell.cat/actualitat/agenda/taller-de-chroma.html
CLASS:PUBLIC
END:VEVENT
END:VCALENDAR
