BEGIN:VCALENDAR
VERSION:2.0
CALSCALE:GREGORIAN
PRODID:-//Diputació de Barcelona//DibaCMS//EN
BEGIN:VEVENT
UID:4930
DTSTAMP:20260421T115646
DTSTART:20211020T200000
DTEND:20211020T210000
SUMMARY:Ple Ordinari 20/10/2021
LOCATION:
METHOD:PUBLISH
X-WR-CALNAME:ullastrell@ullastrell.cat
X-WR-TIMEZONE:Europe/Madrid
DESCRIPTION:Tipus de convocatòria: Ordinària
Data i hora: 20 / d’octubre / 2021 a les 20:00
Lloc: Sala de Plens

URI:https://www.ullastrell.cat/actualitat/agenda/ple-ordinari-20102021.html
CLASS:PUBLIC
END:VEVENT
END:VCALENDAR
