BEGIN:VCALENDAR
VERSION:2.0
CALSCALE:GREGORIAN
PRODID:-//Diputació de Barcelona//DibaCMS//EN
BEGIN:VEVENT
UID:4932
DTSTAMP:20260421T043204
DTSTART:20211028T180000
DTEND:20211028T193000
SUMMARY:Nit de terror:  Taller sang i fetge 
LOCATION:Altell Casal Cultural 
METHOD:PUBLISH
X-WR-CALNAME:ullastrell@ullastrell.cat
X-WR-TIMEZONE:Europe/Madrid
DESCRIPTION:Aprèn a recrear sang i materials terrorífics per fer les teves escenes de pel·lícula! A partir de 10 anys. 

URI:https://www.ullastrell.cat/actualitat/agenda/nit-de-terror-taller-sang-i-fetge-.html
CLASS:PUBLIC
END:VEVENT
END:VCALENDAR
