BEGIN:VCALENDAR
VERSION:2.0
CALSCALE:GREGORIAN
PRODID:-//Diputació de Barcelona//DibaCMS//EN
BEGIN:VEVENT
UID:4933
DTSTAMP:20260421T013753
DTSTART:20211028T200000
DTEND:20211028T220000
SUMMARY:Nit de terror: Bingo de terror 
LOCATION:C/Josep Fornell s/n  08231 Ullastrell
METHOD:PUBLISH
X-WR-CALNAME:ullastrell@ullastrell.cat
X-WR-TIMEZONE:Europe/Madrid
DESCRIPTION: Passa una bona estona i posa a prova el teu coneixement en pel·lis de terror amb aquest bingo terrorífic! Premis i molt més! Podràs acompanyar-lo d'un menú ofert pel Bar del Casal per sopar especial terror. No t'ho perdis!

URI:https://www.ullastrell.cat/actualitat/agenda/nit-de-terror-bingo-de-terror-.html
CLASS:PUBLIC
END:VEVENT
END:VCALENDAR
