BEGIN:VCALENDAR
VERSION:2.0
CALSCALE:GREGORIAN
PRODID:-//Diputació de Barcelona//DibaCMS//EN
BEGIN:VEVENT
UID:4934
DTSTAMP:20260421T031102
DTSTART:20211103T170000
DTEND:20211103T180000
SUMMARY:Palla, fusta i pedra, de Galiot teatre
LOCATION:C/ Josep Fornell, s/n 08231 Ullastrell
METHOD:PUBLISH
X-WR-CALNAME:ullastrell@ullastrell.cat
X-WR-TIMEZONE:Europe/Madrid
DESCRIPTION:Espectacle de titelles al voltant del tradicional conte dels tres porquets. Org. Bibliobús

URI:https://www.ullastrell.cat/actualitat/agenda/palla-fusta-i-pedra-de-galiot-teatre.html
CLASS:PUBLIC
END:VEVENT
END:VCALENDAR
