BEGIN:VCALENDAR
VERSION:2.0
CALSCALE:GREGORIAN
PRODID:-//Diputació de Barcelona//DibaCMS//EN
BEGIN:VEVENT
UID:4935
DTSTAMP:20260421T012856
DTSTART:20211106T200000
DTEND:20211106T213000
SUMMARY:Murmut, de Palet&Ubach, Intrusos
LOCATION:C/ Josep Fornell, s/n 08231 Ullastrell
METHOD:PUBLISH
X-WR-CALNAME:ullastrell@ullastrell.cat
X-WR-TIMEZONE:Europe/Madrid
DESCRIPTION:Una proposta de teatre visual i d’objectes, amb música en directe, sobre la necessitat de protecció. Per a públic adult.

URI:https://www.ullastrell.cat/actualitat/agenda/murmut-de-paletandubach-intrusos.html
CLASS:PUBLIC
END:VEVENT
END:VCALENDAR
