BEGIN:VCALENDAR
VERSION:2.0
CALSCALE:GREGORIAN
PRODID:-//Diputació de Barcelona//DibaCMS//EN
BEGIN:VEVENT
UID:4936
DTSTAMP:20260421T101959
DTSTART:20211110T170000
DTEND:20211110T190000
SUMMARY:Jocs de Taula
LOCATION:C/Josep Fornell s/n  08231 Ullastrell
METHOD:PUBLISH
X-WR-CALNAME:ullastrell@ullastrell.cat
X-WR-TIMEZONE:Europe/Madrid
DESCRIPTION:Vine a jugar a jocs de taula clàssics i nous i passa una bona estona! Obert a tothom.

URI:https://www.ullastrell.cat/actualitat/agenda/4936-jocs-de-taula.html
CLASS:PUBLIC
END:VEVENT
END:VCALENDAR
