BEGIN:VCALENDAR
VERSION:2.0
CALSCALE:GREGORIAN
PRODID:-//Diputació de Barcelona//DibaCMS//EN
BEGIN:VEVENT
UID:4940
DTSTAMP:20260421T031022
DTSTART:20211119T200000
DTEND:20211119T220000
SUMMARY:Nit de l'esportista local
LOCATION:C/ Josep Fornell, s/n 08231 Ullastrell
METHOD:PUBLISH
X-WR-CALNAME:ullastrell@ullastrell.cat
X-WR-TIMEZONE:Europe/Madrid
DESCRIPTION:Una nova iniciativa per a fer visibles les persones del poble que s'entreguen a l'esport en cos i ànima. Un reconeixement a una d'elles, i al seu esforç en l'esport.

URI:https://www.ullastrell.cat/actualitat/agenda/nit-de-lesportista-local.html
CLASS:PUBLIC
END:VEVENT
END:VCALENDAR
