BEGIN:VCALENDAR
VERSION:2.0
CALSCALE:GREGORIAN
PRODID:-//Diputació de Barcelona//DibaCMS//EN
BEGIN:VEVENT
UID:4942
DTSTAMP:20260421T012626
DTSTART:20211121T183000
DTEND:20211121T200000
SUMMARY:Inici de la Mostra de Teatre d'Ullastrell
LOCATION:C/ Josep Fornell, s/n 08231 Ullastrell
METHOD:PUBLISH
X-WR-CALNAME:ullastrell@ullastrell.cat
X-WR-TIMEZONE:Europe/Madrid
DESCRIPTION:Comença la temporada teatral a Ullastrell, organitzada per GATU. No us perdeu l'estrena amb la cia. Anem de Canto, de Sant Joan de Vilatorrada.

URI:https://www.ullastrell.cat/actualitat/agenda/inici-de-la-mostra-de-teatre-dullastrell.html
CLASS:PUBLIC
END:VEVENT
END:VCALENDAR
